BEGIN:VCALENDAR
VERSION:2.0
PRODID:-//RWC Fallbrook - ECPv6.15.16//NONSGML v1.0//EN
CALSCALE:GREGORIAN
METHOD:PUBLISH
X-ORIGINAL-URL:https://rwcfallbrook.org
X-WR-CALDESC:Events for RWC Fallbrook
REFRESH-INTERVAL;VALUE=DURATION:PT1H
X-Robots-Tag:noindex
X-PUBLISHED-TTL:PT1H
BEGIN:VTIMEZONE
TZID:UTC
BEGIN:STANDARD
TZOFFSETFROM:+0000
TZOFFSETTO:+0000
TZNAME:UTC
DTSTART:20230101T000000
END:STANDARD
END:VTIMEZONE
BEGIN:VEVENT
DTSTART;TZID=UTC:20241211T110000
DTEND;TZID=UTC:20241211T140000
DTSTAMP:20260421T042423
CREATED:20240702T065654Z
LAST-MODIFIED:20241119T211810Z
UID:10000012-1733914800-1733925600@rwcfallbrook.org
SUMMARY:Christmas Gala Luncheon
DESCRIPTION:Let’s Celebrate the Presidential Election Win! \nEntertainment by The Temecula Conservatory of Music \nHonored Guest & Speaker: Roy Moosa\, Entrepreneur and Community Leader \nBuffet Lunch with carving station and no-host bar \nBring cash and/or check: Opportunities to win Gift Baskets\, donate to our Student Scholarship Fund and thank our young\, talented musicians.
URL:https://rwcfallbrook.org/event/christmas-gala/
LOCATION:Grand Tradition Estate & Gardens\, 220 Grand Tradition Way\, Fallbrook\, CA\, 92028\, United States
END:VEVENT
END:VCALENDAR